BEGIN:VCALENDAR
VERSION:2.0
PRODID:-//eventon.com NONSGML v1.0//EN
CALSCALE:GREGORIAN
METHOD:PUBLISH
BEGIN:VEVENT
UID:69eb9c5645527
DTSTAMP:20260424T163742Z
DTSTART:20240702
DTEND:20240703
LOCATION:
SUMMARY:Go Fourth Festival
DESCRIPTION:Go Fourth Festival\nhttps://ultimatearchorthotics.com/events/go
 -fourth-festival/
URL:https://ultimatearchorthotics.com/events/go-fourth-festival/
END:VEVENT
END:VCALENDAR